Package: maftools Version: 2.22.0 Command: /home/biocbuild/R/R/bin/R CMD INSTALL maftools StartedAt: 2025-01-30 20:51:55 -0000 (Thu, 30 Jan 2025) EndedAt: 2025-01-30 20:52:17 -0000 (Thu, 30 Jan 2025) EllapsedTime: 22.1 seconds RetCode: 0 Status: OK