Package: maftools Version: 2.22.0 Command: /home/biocbuild/R/R/bin/R CMD build --keep-empty-dirs --no-resave-data maftools StartedAt: 2025-04-01 00:30:22 -0000 (Tue, 01 Apr 2025) EndedAt: 2025-04-01 00:34:45 -0000 (Tue, 01 Apr 2025) EllapsedTime: 263.1 seconds RetCode: 0 Status: OK PackageFile: maftools_2.22.0.tar.gz PackageFileSize: 9.571 MiB