Package: made4 Version: 1.80.0 Command: chmod a+r made4 -R && F:\biocbuild\bbs-3.20-bioc\R\bin\R.exe CMD build --keep-empty-dirs --no-resave-data made4 StartedAt: 2025-03-31 19:53:46 -0400 (Mon, 31 Mar 2025) EndedAt: 2025-03-31 19:54:47 -0400 (Mon, 31 Mar 2025) EllapsedTime: 61.7 seconds RetCode: 0 Status: OK PackageFile: made4_1.80.0.tar.gz PackageFileSize: 1.623 MiB