Package: made4 Version: 1.80.0 Command: /Library/Frameworks/R.framework/Resources/bin/R CMD build --keep-empty-dirs --no-resave-data made4 StartedAt: 2025-03-31 19:44:30 -0400 (Mon, 31 Mar 2025) EndedAt: 2025-03-31 19:45:55 -0400 (Mon, 31 Mar 2025) EllapsedTime: 84.2 seconds RetCode: 0 Status: OK PackageFile: made4_1.80.0.tar.gz PackageFileSize: 2.508 MiB