Package: maSigPro Version: 1.78.0 Command: /home/biocbuild/R/R/bin/R CMD build --keep-empty-dirs --no-resave-data maSigPro StartedAt: 2025-04-01 00:33:03 -0000 (Tue, 01 Apr 2025) EndedAt: 2025-04-01 00:33:11 -0000 (Tue, 01 Apr 2025) EllapsedTime: 8.0 seconds RetCode: 0 Status: OK PackageFile: maSigPro_1.78.0.tar.gz PackageFileSize: 1.507 MiB