Package: maSigPro Version: 1.78.0 Command: F:\biocbuild\bbs-3.20-bioc\R\bin\R.exe CMD check --no-multiarch --install=check:maSigPro.install-out.txt --library=F:\biocbuild\bbs-3.20-bioc\R\library --no-vignettes --timings maSigPro_1.78.0.tar.gz StartedAt: 2025-01-28 03:04:18 -0500 (Tue, 28 Jan 2025) EndedAt: 2025-01-28 03:07:29 -0500 (Tue, 28 Jan 2025) EllapsedTime: 191.5 seconds RetCode: 0 Status: OK CheckDir: maSigPro.Rcheck Warnings: 0