Package: maSigPro Version: 1.78.0 Command: rm -rf maSigPro.buildbin-libdir && mkdir maSigPro.buildbin-libdir && F:\biocbuild\bbs-3.20-bioc\R\bin\R.exe CMD INSTALL --build --library=maSigPro.buildbin-libdir maSigPro_1.78.0.tar.gz StartedAt: 2025-01-28 08:29:12 -0500 (Tue, 28 Jan 2025) EndedAt: 2025-01-28 08:29:32 -0500 (Tue, 28 Jan 2025) EllapsedTime: 19.5 seconds RetCode: 0 Status: OK PackageFile: maSigPro_1.78.0.zip PackageFileSize: 1.61 MiB