Package: maSigPro Version: 1.78.0 Command: /Library/Frameworks/R.framework/Resources/bin/R CMD INSTALL maSigPro StartedAt: 2025-03-31 15:05:16 -0400 (Mon, 31 Mar 2025) EndedAt: 2025-03-31 15:05:45 -0400 (Mon, 31 Mar 2025) EllapsedTime: 28.8 seconds RetCode: 0 Status: OK