Package: maSigPro Version: 1.78.0 Command: /Library/Frameworks/R.framework/Resources/bin/R CMD check --install=check:maSigPro.install-out.txt --library=/Library/Frameworks/R.framework/Resources/library --no-vignettes --timings maSigPro_1.78.0.tar.gz StartedAt: 2025-04-01 05:07:48 -0400 (Tue, 01 Apr 2025) EndedAt: 2025-04-01 05:13:34 -0400 (Tue, 01 Apr 2025) EllapsedTime: 345.8 seconds RetCode: 0 Status: OK CheckDir: maSigPro.Rcheck Warnings: 0