Package: maPredictDSC Version: 1.44.0 Command: /home/biocbuild/R/R/bin/R CMD check --install=check:maPredictDSC.install-out.txt --library=/home/biocbuild/R/R/site-library --no-vignettes --timings maPredictDSC_1.44.0.tar.gz StartedAt: 2025-01-31 07:43:49 -0000 (Fri, 31 Jan 2025) EndedAt: 2025-01-31 08:23:50 -0000 (Fri, 31 Jan 2025) EllapsedTime: 2400.3 seconds RetCode: None Status: TIMEOUT CheckDir: maPredictDSC.Rcheck Warnings: NA