Package: maPredictDSC Version: 1.44.0 Command: /home/biocbuild/R/R/bin/R CMD INSTALL maPredictDSC StartedAt: 2024-11-19 21:19:44 -0000 (Tue, 19 Nov 2024) EndedAt: 2024-11-19 21:20:17 -0000 (Tue, 19 Nov 2024) EllapsedTime: 32.7 seconds RetCode: 0 Status: OK