Package: maPredictDSC Version: 1.44.0 Command: /Library/Frameworks/R.framework/Resources/bin/R CMD build --keep-empty-dirs --no-resave-data maPredictDSC StartedAt: 2025-04-01 02:16:20 -0400 (Tue, 01 Apr 2025) EndedAt: 2025-04-01 02:18:06 -0400 (Tue, 01 Apr 2025) EllapsedTime: 105.3 seconds RetCode: 0 Status: OK PackageFile: maPredictDSC_1.44.0.tar.gz PackageFileSize: 196.8 KiB