Package: maCorrPlot Version: 1.76.0 Command: F:\biocbuild\bbs-3.20-bioc\R\bin\R.exe CMD INSTALL maCorrPlot StartedAt: 2025-03-31 15:21:55 -0400 (Mon, 31 Mar 2025) EndedAt: 2025-03-31 15:22:05 -0400 (Mon, 31 Mar 2025) EllapsedTime: 10.0 seconds RetCode: 0 Status: OK