Package: maCorrPlot Version: 1.76.0 Command: /Library/Frameworks/R.framework/Resources/bin/R CMD build --keep-empty-dirs --no-resave-data maCorrPlot StartedAt: 2025-01-27 20:05:33 -0500 (Mon, 27 Jan 2025) EndedAt: 2025-01-27 20:05:52 -0500 (Mon, 27 Jan 2025) EllapsedTime: 19.6 seconds RetCode: 0 Status: OK PackageFile: maCorrPlot_1.76.0.tar.gz PackageFileSize: 1.264 MiB