Package: mCSEA Version: 1.26.2 Command: /home/biocbuild/R/R/bin/R CMD INSTALL mCSEA StartedAt: 2025-02-03 21:04:30 -0000 (Mon, 03 Feb 2025) EndedAt: 2025-02-03 21:05:18 -0000 (Mon, 03 Feb 2025) EllapsedTime: 48.5 seconds RetCode: 0 Status: OK