Package: mCSEA Version: 1.26.2 Command: rm -rf mCSEA.buildbin-libdir && mkdir mCSEA.buildbin-libdir && F:\biocbuild\bbs-3.20-bioc\R\bin\R.exe CMD INSTALL --build --library=mCSEA.buildbin-libdir mCSEA_1.26.2.tar.gz StartedAt: 2025-02-04 08:51:50 -0500 (Tue, 04 Feb 2025) EndedAt: 2025-02-04 08:52:33 -0500 (Tue, 04 Feb 2025) EllapsedTime: 43.9 seconds RetCode: 0 Status: OK PackageFile: mCSEA_1.26.2.zip PackageFileSize: 2.089 MiB