Package: mCSEA Version: 1.26.2 Command: /Library/Frameworks/R.framework/Resources/bin/R CMD INSTALL mCSEA StartedAt: 2025-01-27 17:12:26 -0500 (Mon, 27 Jan 2025) EndedAt: 2025-01-27 17:13:13 -0500 (Mon, 27 Jan 2025) EllapsedTime: 47.0 seconds RetCode: 0 Status: OK