Package: mBPCR Version: 1.60.0 Command: /Library/Frameworks/R.framework/Resources/bin/R CMD check --install=check:mBPCR.install-out.txt --library=/Library/Frameworks/R.framework/Resources/library --no-vignettes --timings mBPCR_1.60.0.tar.gz StartedAt: 2025-04-01 23:49:34 -0400 (Tue, 01 Apr 2025) EndedAt: 2025-04-01 23:53:42 -0400 (Tue, 01 Apr 2025) EllapsedTime: 247.7 seconds RetCode: 0 Status: OK CheckDir: mBPCR.Rcheck Warnings: 0