Package: m6Aboost Version: 1.12.0 Command: /home/biocbuild/R/R/bin/R CMD INSTALL m6Aboost StartedAt: 2025-02-03 21:12:36 -0000 (Mon, 03 Feb 2025) EndedAt: 2025-02-03 21:13:32 -0000 (Mon, 03 Feb 2025) EllapsedTime: 55.9 seconds RetCode: 0 Status: OK