Package: m6Aboost Version: 1.12.0 Command: /home/biocbuild/R/R/bin/R CMD build --keep-empty-dirs --no-resave-data m6Aboost StartedAt: 2025-01-28 01:15:17 -0000 (Tue, 28 Jan 2025) EndedAt: 2025-01-28 01:16:49 -0000 (Tue, 28 Jan 2025) EllapsedTime: 92.0 seconds RetCode: 0 Status: OK PackageFile: m6Aboost_1.12.0.tar.gz PackageFileSize: 824.5 KiB