Package: m6Aboost Version: 1.12.0 Command: chmod a+r m6Aboost -R && F:\biocbuild\bbs-3.20-bioc\R\bin\R.exe CMD build --keep-empty-dirs --no-resave-data m6Aboost StartedAt: 2025-01-27 19:50:52 -0500 (Mon, 27 Jan 2025) EndedAt: 2025-01-27 19:52:31 -0500 (Mon, 27 Jan 2025) EllapsedTime: 98.9 seconds RetCode: 0 Status: OK PackageFile: m6Aboost_1.12.0.tar.gz PackageFileSize: 759.7 KiB