Package: m6Aboost Version: 1.12.0 Command: /home/biocbuild/bbs-3.20-bioc/R/bin/R CMD build --keep-empty-dirs --no-resave-data --md5 m6Aboost StartedAt: 2025-03-31 17:50:01 -0400 (Mon, 31 Mar 2025) EndedAt: 2025-03-31 17:51:10 -0400 (Mon, 31 Mar 2025) EllapsedTime: 69.1 seconds RetCode: 0 Status: OK PackageFile: m6Aboost_1.12.0.tar.gz PackageFileSize: 759.5 KiB