Package: m6Aboost Version: 1.12.0 Command: /Library/Frameworks/R.framework/Resources/bin/R CMD build --keep-empty-dirs --no-resave-data m6Aboost StartedAt: 2025-01-27 20:05:21 -0500 (Mon, 27 Jan 2025) EndedAt: 2025-01-27 20:08:16 -0500 (Mon, 27 Jan 2025) EllapsedTime: 175.6 seconds RetCode: 0 Status: OK PackageFile: m6Aboost_1.12.0.tar.gz PackageFileSize: 759.5 KiB