Package: m6Aboost Version: 1.12.0 Command: /Library/Frameworks/R.framework/Resources/bin/R CMD INSTALL m6Aboost StartedAt: 2024-11-08 15:43:20 -0500 (Fri, 08 Nov 2024) EndedAt: 2024-11-08 15:43:37 -0500 (Fri, 08 Nov 2024) EllapsedTime: 16.9 seconds RetCode: 0 Status: OK