Package: lute Version: 1.2.0 Command: /home/biocbuild/bbs-3.20-bioc/R/bin/R CMD check --install=check:lute.install-out.txt --library=/home/biocbuild/bbs-3.20-bioc/R/site-library --timings lute_1.2.0.tar.gz StartedAt: 2025-01-30 23:31:39 -0500 (Thu, 30 Jan 2025) EndedAt: 2025-01-30 23:35:23 -0500 (Thu, 30 Jan 2025) EllapsedTime: 223.3 seconds RetCode: 0 Status: OK CheckDir: lute.Rcheck Warnings: 0