Package: lute Version: 1.2.0 Command: /home/biocbuild/bbs-3.20-bioc/R/bin/R CMD build --keep-empty-dirs --no-resave-data --md5 lute StartedAt: 2025-02-03 18:00:58 -0500 (Mon, 03 Feb 2025) EndedAt: 2025-02-03 18:01:43 -0500 (Mon, 03 Feb 2025) EllapsedTime: 45.0 seconds RetCode: 0 Status: OK PackageFile: lute_1.2.0.tar.gz PackageFileSize: 2.283 MiB