Package: lute Version: 1.2.0 Command: /Library/Frameworks/R.framework/Resources/bin/R CMD build --keep-empty-dirs --no-resave-data lute StartedAt: 2025-01-30 20:16:08 -0500 (Thu, 30 Jan 2025) EndedAt: 2025-01-30 20:18:29 -0500 (Thu, 30 Jan 2025) EllapsedTime: 140.7 seconds RetCode: 0 Status: OK PackageFile: lute_1.2.0.tar.gz PackageFileSize: 2.235 MiB