Package: lumi Version: 2.58.0 Command: /Library/Frameworks/R.framework/Resources/bin/R CMD check --install=check:lumi.install-out.txt --library=/Library/Frameworks/R.framework/Resources/library --no-vignettes --timings lumi_2.58.0.tar.gz StartedAt: 2025-01-28 05:53:32 -0500 (Tue, 28 Jan 2025) EndedAt: 2025-01-28 06:08:57 -0500 (Tue, 28 Jan 2025) EllapsedTime: 924.7 seconds RetCode: 0 Status: WARNINGS CheckDir: lumi.Rcheck Warnings: 3