Package: lumi Version: 2.58.0 Command: /Library/Frameworks/R.framework/Resources/bin/R CMD build --keep-empty-dirs --no-resave-data lumi StartedAt: 2025-01-27 20:05:14 -0500 (Mon, 27 Jan 2025) EndedAt: 2025-01-27 20:05:19 -0500 (Mon, 27 Jan 2025) EllapsedTime: 4.6 seconds RetCode: 0 Status: OK PackageFile: lumi_2.58.0.tar.gz PackageFileSize: 8.033 MiB