Package: lumi Version: 2.58.0 Command: /Library/Frameworks/R.framework/Resources/bin/R CMD build --keep-empty-dirs --no-resave-data lumi StartedAt: 2024-11-08 17:54:26 -0500 (Fri, 08 Nov 2024) EndedAt: 2024-11-08 17:54:27 -0500 (Fri, 08 Nov 2024) EllapsedTime: 1.0 seconds RetCode: 0 Status: OK PackageFile: lumi_2.58.0.tar.gz PackageFileSize: 8.033 MiB