Package: lpsymphony Version: 1.34.0 Command: /home/biocbuild/R/R/bin/R CMD build --keep-empty-dirs --no-resave-data lpsymphony StartedAt: 2025-04-01 00:29:09 -0000 (Tue, 01 Apr 2025) EndedAt: 2025-04-01 00:40:29 -0000 (Tue, 01 Apr 2025) EllapsedTime: 680.3 seconds RetCode: 0 Status: OK PackageFile: lpsymphony_1.34.0.tar.gz PackageFileSize: 7.272 MiB