Package: lpsymphony Version: 1.34.0 Command: /home/biocbuild/bbs-3.20-bioc/R/bin/R CMD check --install=check:lpsymphony.install-out.txt --library=/home/biocbuild/bbs-3.20-bioc/R/site-library --timings lpsymphony_1.34.0.tar.gz StartedAt: 2025-03-31 23:28:19 -0400 (Mon, 31 Mar 2025) EndedAt: 2025-03-31 23:28:46 -0400 (Mon, 31 Mar 2025) EllapsedTime: 27.1 seconds RetCode: 0 Status: WARNINGS CheckDir: lpsymphony.Rcheck Warnings: 1