Package: lpsymphony Version: 1.34.0 Command: /home/biocbuild/bbs-3.20-bioc/R/bin/R CMD build --keep-empty-dirs --no-resave-data --md5 lpsymphony StartedAt: 2025-01-30 17:51:33 -0500 (Thu, 30 Jan 2025) EndedAt: 2025-01-30 17:59:26 -0500 (Thu, 30 Jan 2025) EllapsedTime: 472.5 seconds RetCode: 0 Status: OK PackageFile: lpsymphony_1.34.0.tar.gz PackageFileSize: 11.89 MiB