Package: lpsymphony Version: 1.34.0 Command: /Library/Frameworks/R.framework/Resources/bin/R CMD check --install=check:lpsymphony.install-out.txt --library=/Library/Frameworks/R.framework/Resources/library --no-vignettes --timings lpsymphony_1.34.0.tar.gz StartedAt: 2025-02-04 05:41:23 -0500 (Tue, 04 Feb 2025) EndedAt: 2025-02-04 05:42:24 -0500 (Tue, 04 Feb 2025) EllapsedTime: 61.0 seconds RetCode: 0 Status: WARNINGS CheckDir: lpsymphony.Rcheck Warnings: 1