Package: lpsymphony Version: 1.34.0 Command: /Library/Frameworks/R.framework/Resources/bin/R CMD check --install=check:lpsymphony.install-out.txt --library=/Library/Frameworks/R.framework/Resources/library --no-vignettes --timings lpsymphony_1.34.0.tar.gz StartedAt: 2025-01-31 23:36:06 -0500 (Fri, 31 Jan 2025) EndedAt: 2025-01-31 23:36:36 -0500 (Fri, 31 Jan 2025) EllapsedTime: 30.3 seconds RetCode: 0 Status: WARNINGS CheckDir: lpsymphony.Rcheck Warnings: 1