Package: lpsymphony Version: 1.34.0 Command: /Library/Frameworks/R.framework/Resources/bin/R CMD build --keep-empty-dirs --no-resave-data lpsymphony StartedAt: 2025-04-01 02:06:34 -0400 (Tue, 01 Apr 2025) EndedAt: 2025-04-01 02:16:25 -0400 (Tue, 01 Apr 2025) EllapsedTime: 590.4 seconds RetCode: 0 Status: OK PackageFile: lpsymphony_1.34.0.tar.gz PackageFileSize: 11.87 MiB