Package: lpsymphony Version: 1.34.0 Command: rm -rf lpsymphony.buildbin-libdir && mkdir lpsymphony.buildbin-libdir && /Users/biocbuild/BBS/utils/build-universal.sh lpsymphony_1.34.0.tar.gz /Library/Frameworks/R.framework/Resources/bin/R lpsymphony.buildbin-libdir StartedAt: 2025-02-01 15:31:03 -0500 (Sat, 01 Feb 2025) EndedAt: 2025-02-01 15:41:27 -0500 (Sat, 01 Feb 2025) EllapsedTime: 624.3 seconds RetCode: 0 Status: OK PackageFile: lpsymphony_1.34.0.tgz PackageFileSize: 1.85 MiB