Package: lpNet Version: 2.38.0 Command: /home/biocbuild/R/R/bin/R CMD build --keep-empty-dirs --no-resave-data lpNet StartedAt: 2025-01-31 00:35:12 -0000 (Fri, 31 Jan 2025) EndedAt: 2025-01-31 00:35:52 -0000 (Fri, 31 Jan 2025) EllapsedTime: 40.0 seconds RetCode: 0 Status: OK PackageFile: lpNet_2.38.0.tar.gz PackageFileSize: 298.3 KiB