Package: lpNet Version: 2.38.0 Command: /Library/Frameworks/R.framework/Resources/bin/R CMD INSTALL lpNet StartedAt: 2025-02-03 15:19:11 -0500 (Mon, 03 Feb 2025) EndedAt: 2025-02-03 15:19:29 -0500 (Mon, 03 Feb 2025) EllapsedTime: 17.3 seconds RetCode: 0 Status: OK