Package: lpNet Version: 2.38.0 Command: /Library/Frameworks/R.framework/Resources/bin/R CMD check --install=check:lpNet.install-out.txt --library=/Library/Frameworks/R.framework/Resources/library --no-vignettes --timings lpNet_2.38.0.tar.gz StartedAt: 2025-01-31 05:50:14 -0500 (Fri, 31 Jan 2025) EndedAt: 2025-01-31 05:51:37 -0500 (Fri, 31 Jan 2025) EllapsedTime: 82.3 seconds RetCode: 0 Status: WARNINGS CheckDir: lpNet.Rcheck Warnings: 1