Package: lpNet Version: 2.38.0 Command: /Library/Frameworks/R.framework/Resources/bin/R CMD build --keep-empty-dirs --no-resave-data lpNet StartedAt: 2025-02-03 19:57:57 -0500 (Mon, 03 Feb 2025) EndedAt: 2025-02-03 19:59:21 -0500 (Mon, 03 Feb 2025) EllapsedTime: 83.7 seconds RetCode: 0 Status: OK PackageFile: lpNet_2.38.0.tar.gz PackageFileSize: 308 KiB