Package: logicFS Version: 2.26.0 Command: /home/biocbuild/R/R/bin/R CMD build --keep-empty-dirs --no-resave-data logicFS StartedAt: 2025-04-01 00:28:49 -0000 (Tue, 01 Apr 2025) EndedAt: 2025-04-01 00:29:05 -0000 (Tue, 01 Apr 2025) EllapsedTime: 16.0 seconds RetCode: 0 Status: OK PackageFile: logicFS_2.26.0.tar.gz PackageFileSize: 253.6 KiB