Package: logicFS Version: 2.26.0 Command: rm -rf logicFS.buildbin-libdir && mkdir logicFS.buildbin-libdir && F:\biocbuild\bbs-3.20-bioc\R\bin\R.exe CMD INSTALL --build --library=logicFS.buildbin-libdir logicFS_2.26.0.tar.gz StartedAt: 2025-01-28 08:26:54 -0500 (Tue, 28 Jan 2025) EndedAt: 2025-01-28 08:27:43 -0500 (Tue, 28 Jan 2025) EllapsedTime: 48.9 seconds RetCode: 0 Status: OK PackageFile: logicFS_2.26.0.zip PackageFileSize: 513.2 KiB