Package: logicFS Version: 2.26.0 Command: /Library/Frameworks/R.framework/Resources/bin/R CMD check --install=check:logicFS.install-out.txt --library=/Library/Frameworks/R.framework/Resources/library --no-vignettes --timings logicFS_2.26.0.tar.gz StartedAt: 2025-01-28 05:50:53 -0500 (Tue, 28 Jan 2025) EndedAt: 2025-01-28 05:52:59 -0500 (Tue, 28 Jan 2025) EllapsedTime: 125.7 seconds RetCode: 0 Status: OK CheckDir: logicFS.Rcheck Warnings: 0