Package: logicFS Version: 2.26.0 Command: /home/biocbuild/R/R/bin/R CMD INSTALL logicFS StartedAt: 2024-11-19 21:15:06 -0000 (Tue, 19 Nov 2024) EndedAt: 2024-11-19 21:15:18 -0000 (Tue, 19 Nov 2024) EllapsedTime: 12.9 seconds RetCode: 0 Status: OK