Package: logicFS Version: 2.26.0 Command: /home/biocbuild/R/R/bin/R CMD build --keep-empty-dirs --no-resave-data logicFS StartedAt: 2024-11-20 01:45:26 -0000 (Wed, 20 Nov 2024) EndedAt: 2024-11-20 01:45:43 -0000 (Wed, 20 Nov 2024) EllapsedTime: 17.0 seconds RetCode: 0 Status: OK PackageFile: logicFS_2.26.0.tar.gz PackageFileSize: 253.6 KiB