Package: loci2path Version: 1.26.0 Command: /home/biocbuild/R/R/bin/R CMD INSTALL loci2path StartedAt: 2025-03-31 20:28:50 -0000 (Mon, 31 Mar 2025) EndedAt: 2025-03-31 20:29:05 -0000 (Mon, 31 Mar 2025) EllapsedTime: 14.6 seconds RetCode: 0 Status: OK