Package: loci2path Version: 1.26.0 Command: /home/biocbuild/R/R/bin/R CMD check --install=check:loci2path.install-out.txt --library=/home/biocbuild/R/R/site-library --no-vignettes --timings loci2path_1.26.0.tar.gz StartedAt: 2025-02-04 08:20:36 -0000 (Tue, 04 Feb 2025) EndedAt: 2025-02-04 08:22:08 -0000 (Tue, 04 Feb 2025) EllapsedTime: 92.1 seconds RetCode: 0 Status: OK CheckDir: loci2path.Rcheck Warnings: 0