Package: loci2path Version: 1.26.0 Command: /home/biocbuild/bbs-3.20-bioc/R/bin/R CMD check --install=check:loci2path.install-out.txt --library=/home/biocbuild/bbs-3.20-bioc/R/site-library --timings loci2path_1.26.0.tar.gz StartedAt: 2025-01-28 00:25:11 -0500 (Tue, 28 Jan 2025) EndedAt: 2025-01-28 00:26:36 -0500 (Tue, 28 Jan 2025) EllapsedTime: 84.1 seconds RetCode: 0 Status: OK CheckDir: loci2path.Rcheck Warnings: 0