Package: loci2path Version: 1.26.0 Command: /Library/Frameworks/R.framework/Resources/bin/R CMD INSTALL loci2path StartedAt: 2025-03-31 15:29:04 -0400 (Mon, 31 Mar 2025) EndedAt: 2025-03-31 15:29:28 -0400 (Mon, 31 Mar 2025) EllapsedTime: 24.3 seconds RetCode: 0 Status: OK